BEGIN:VCALENDAR
VERSION:2.0
PRODID:-//PA Pink Zone - ECPv6.15.20//NONSGML v1.0//EN
CALSCALE:GREGORIAN
METHOD:PUBLISH
X-ORIGINAL-URL:https://papinkzone.org
X-WR-CALDESC:Events for PA Pink Zone
REFRESH-INTERVAL;VALUE=DURATION:PT1H
X-Robots-Tag:noindex
X-PUBLISHED-TTL:PT1H
BEGIN:VTIMEZONE
TZID:America/New_York
BEGIN:DAYLIGHT
TZOFFSETFROM:-0500
TZOFFSETTO:-0400
TZNAME:EDT
DTSTART:20200308T070000
END:DAYLIGHT
BEGIN:STANDARD
TZOFFSETFROM:-0400
TZOFFSETTO:-0500
TZNAME:EST
DTSTART:20201101T060000
END:STANDARD
BEGIN:DAYLIGHT
TZOFFSETFROM:-0500
TZOFFSETTO:-0400
TZNAME:EDT
DTSTART:20210314T070000
END:DAYLIGHT
BEGIN:STANDARD
TZOFFSETFROM:-0400
TZOFFSETTO:-0500
TZNAME:EST
DTSTART:20211107T060000
END:STANDARD
BEGIN:DAYLIGHT
TZOFFSETFROM:-0500
TZOFFSETTO:-0400
TZNAME:EDT
DTSTART:20220313T070000
END:DAYLIGHT
BEGIN:STANDARD
TZOFFSETFROM:-0400
TZOFFSETTO:-0500
TZNAME:EST
DTSTART:20221106T060000
END:STANDARD
BEGIN:DAYLIGHT
TZOFFSETFROM:-0500
TZOFFSETTO:-0400
TZNAME:EDT
DTSTART:20230312T070000
END:DAYLIGHT
BEGIN:STANDARD
TZOFFSETFROM:-0400
TZOFFSETTO:-0500
TZNAME:EST
DTSTART:20231105T060000
END:STANDARD
BEGIN:DAYLIGHT
TZOFFSETFROM:-0500
TZOFFSETTO:-0400
TZNAME:EDT
DTSTART:20240310T070000
END:DAYLIGHT
BEGIN:STANDARD
TZOFFSETFROM:-0400
TZOFFSETTO:-0500
TZNAME:EST
DTSTART:20241103T060000
END:STANDARD
BEGIN:DAYLIGHT
TZOFFSETFROM:-0500
TZOFFSETTO:-0400
TZNAME:EDT
DTSTART:20250309T070000
END:DAYLIGHT
BEGIN:STANDARD
TZOFFSETFROM:-0400
TZOFFSETTO:-0500
TZNAME:EST
DTSTART:20251102T060000
END:STANDARD
BEGIN:DAYLIGHT
TZOFFSETFROM:-0500
TZOFFSETTO:-0400
TZNAME:EDT
DTSTART:20260308T070000
END:DAYLIGHT
BEGIN:STANDARD
TZOFFSETFROM:-0400
TZOFFSETTO:-0500
TZNAME:EST
DTSTART:20261101T060000
END:STANDARD
BEGIN:DAYLIGHT
TZOFFSETFROM:-0500
TZOFFSETTO:-0400
TZNAME:EDT
DTSTART:20270314T070000
END:DAYLIGHT
BEGIN:STANDARD
TZOFFSETFROM:-0400
TZOFFSETTO:-0500
TZNAME:EST
DTSTART:20271107T060000
END:STANDARD
END:VTIMEZONE
BEGIN:VEVENT
DTSTART;TZID=America/New_York:20260217T120000
DTEND;TZID=America/New_York:20260217T150000
DTSTAMP:20260423T132238
CREATED:20260119T153554Z
LAST-MODIFIED:20260119T154318Z
UID:5723-1771329600-1771340400@papinkzone.org
SUMMARY:Lunch and Learn at the Hilton Garden Inn
DESCRIPTION:Join us for Lunch and Learn at the Hilton Garden Inn on Tuesday\, February 17th at noon. Guests will enjoy lunch as well as hear from interesting and informative speakers. It is also an opportunity to meet other survivors. Survivors attend free of charge.
URL:https://papinkzone.org/event/lunch-and-learn-at-the-hilton-garden-inn/
END:VEVENT
BEGIN:VEVENT
DTSTART;TZID=America/New_York:20260215T160000
DTEND;TZID=America/New_York:20260215T200000
DTSTAMP:20260423T132238
CREATED:20260119T153322Z
LAST-MODIFIED:20260119T154251Z
UID:5721-1771171200-1771185600@papinkzone.org
SUMMARY:2026 Lady Lion Basketball Play4Kay Game
DESCRIPTION:All breast cancer survivors are invited to the 2026 Lady Lion Basketball Play4Kay Game\, Benefitting Pink Zone.  This is the 20th anniversary of the game.  The Lady Lions will take on Northwestern on Sunday\, February 15th at 4 pm at historic Rec Hall. Survivors are entitled to 4 free tickets.  Additional tickets are available at a discounted rate of $5 each. 
URL:https://papinkzone.org/event/2026-lady-lion-basketball-play4kay-game/
END:VEVENT
BEGIN:VEVENT
DTSTART;TZID=America/New_York:20251006T100000
DTEND;TZID=America/New_York:20251006T190000
DTSTAMP:20260423T132238
CREATED:20250207T163043Z
LAST-MODIFIED:20250207T163044Z
UID:5660-1759744800-1759777200@papinkzone.org
SUMMARY:Pink Zone Golf Tournament
DESCRIPTION:The fifth annual Pink Zone Golf Tournament sponsored by Confer’s Jewelers.
URL:https://papinkzone.org/event/pink-zone-golf-tournament-3/
LOCATION:Centre Hills Country Club\, 153 Country Club Road\, State College\, Pennsylvania\, 16801\, United States
END:VEVENT
BEGIN:VEVENT
DTSTART;TZID=America/New_York:20250216T130000
DTEND;TZID=America/New_York:20250216T130000
DTSTAMP:20260423T132238
CREATED:20241016T175745Z
LAST-MODIFIED:20250108T192753Z
UID:5640-1739710800-1739710800@papinkzone.org
SUMMARY:Play 4 Kay Game Benefitting Pa. Pink Zone
DESCRIPTION:Annual Play 4 Kay Game Benefitting Pa. Pink ZonePenn State Women’s Basketball\, Lady Lions vs. Wisconsin \n\n\n\nSurvivor Registration CLICK HERE
URL:https://papinkzone.org/event/play-4-kay-game-benefitting-pa-pink-zone/
END:VEVENT
BEGIN:VEVENT
DTSTART;TZID=America/New_York:20250211T120000
DTEND;TZID=America/New_York:20250211T140000
DTSTAMP:20260423T132238
CREATED:20250123T185942Z
LAST-MODIFIED:20250123T185945Z
UID:5654-1739275200-1739282400@papinkzone.org
SUMMARY:Lunch and Learn
DESCRIPTION:Sign up for lunch\, to hear from interesting and informative speakers\, and to meet other survivors! \n\n\n\nFREE for survivors!
URL:https://papinkzone.org/event/lunch-and-learn/
LOCATION:Mountain View Country Club\, 310 Elks Club Road\, Boalsburg\, Pennsylvania\, 16827\, United States
ATTACH;FMTTYPE=image/jpeg:https://papinkzone.org/wp-content/uploads/2024/02/2024-sneakers.jpg
END:VEVENT
BEGIN:VEVENT
DTSTART;TZID=America/New_York:20241007T110000
DTEND;TZID=America/New_York:20241007T170000
DTSTAMP:20260423T132238
CREATED:20240307T170805Z
LAST-MODIFIED:20240307T170806Z
UID:5557-1728298800-1728320400@papinkzone.org
SUMMARY:Pink Zone Golf Tournament
DESCRIPTION:Fourth annual Pink Zone Golf Tournament\, featuring women’s and men’s divisions and a Pro-Am format that offers the opportunity to golf with a regional pro.
URL:https://papinkzone.org/event/pink-zone-golf-tournament-2/
LOCATION:Centre Hills Country Cub\, 153 Country Club Road\, State College\, Pennsylvania\, 16801\, United States
END:VEVENT
BEGIN:VEVENT
DTSTART;TZID=America/New_York:20240927T180000
DTEND;TZID=America/New_York:20240927T203000
DTSTAMP:20260423T132238
CREATED:20240307T171009Z
LAST-MODIFIED:20240307T171012Z
UID:5561-1727460000-1727469000@papinkzone.org
SUMMARY:Penn State Homecoming Parade
DESCRIPTION:Pink Zone supporters and survivors march together in annual Penn State Homecoming Parade on the University Park campus.
URL:https://papinkzone.org/event/penn-state-homecoming-parade-3/
END:VEVENT
BEGIN:VEVENT
DTSTART;TZID=America/New_York:20240203T180000
DTEND;TZID=America/New_York:20240203T200000
DTSTAMP:20260423T132238
CREATED:20231013T131714Z
LAST-MODIFIED:20231013T131715Z
UID:5431-1706983200-1706990400@papinkzone.org
SUMMARY:Lady Lion Basketball Play4Kay Game
DESCRIPTION:Save the date and please plan to join us for the annual Lady Lion Basketball Play4Kay Game benefitting Pink Zone. This season the game tips off at 6 p.m. Saturday\, Feb. 3\, against Michigan.  \n\n\n\nMore details about registration\, the popular Opening Ceremony\, the Reception\, tickets\, survivor support and more will be coming soon!
URL:https://papinkzone.org/event/lady-lion-basketball-play4kay-game/
END:VEVENT
BEGIN:VEVENT
DTSTART;TZID=America/New_York:20231013T180000
DTEND;TZID=America/New_York:20231013T210000
DTSTAMP:20260423T132238
CREATED:20231013T131145Z
LAST-MODIFIED:20231013T131146Z
UID:5428-1697220000-1697230800@papinkzone.org
SUMMARY:Penn State Homecoming Parade
DESCRIPTION:
URL:https://papinkzone.org/event/penn-state-homecoming-parade-2/
END:VEVENT
BEGIN:VEVENT
DTSTART;TZID=America/New_York:20231009T110000
DTEND;TZID=America/New_York:20231009T190000
DTSTAMP:20260423T132238
CREATED:20230508T193115Z
LAST-MODIFIED:20230508T193400Z
UID:5406-1696849200-1696878000@papinkzone.org
SUMMARY:Pink Zone Golf Tournament
DESCRIPTION:Third annual Pink Zone Golf Tournament\, sponsored by Confers Jewelers. This year’s event will feature separate divisions for men and women as well as numerous sponsorship opportunities that allow businesses and individuals to support the battle against breast cancer. \n\n\n\n\n11 a.m.  – Registration \n\n\n\nNoon – Lunch \n\n\n\n1 p.m. – Tee Off \n\n\n\n5 p.m. – Cocktails Start Time\n\n\n\n\nGet information about registration and sponsorship opportunities HERE!
URL:https://papinkzone.org/event/pink-zone-golf-tournament/
LOCATION:Centre Hills Country Club\, 153 Country Club Road\, State College\, Pennsylvania\, 16801\, United States
END:VEVENT
BEGIN:VEVENT
DTSTART;TZID=America/New_York:20230207T120000
DTEND;TZID=America/New_York:20230207T140000
DTSTAMP:20260423T132238
CREATED:20230108T204121Z
LAST-MODIFIED:20230110T123146Z
UID:5338-1675771200-1675778400@papinkzone.org
SUMMARY:Lunch and Learn
DESCRIPTION: Event features a buffet lunch as well as a program with breast cancer survivors and speakers.
URL:https://papinkzone.org/event/lunch-and-learn-2/
END:VEVENT
BEGIN:VEVENT
DTSTART;TZID=America/New_York:20230205T120000
DTEND;TZID=America/New_York:20230205T143000
DTSTAMP:20260423T132238
CREATED:20221105T111450Z
LAST-MODIFIED:20221215T143408Z
UID:5311-1675598400-1675607400@papinkzone.org
SUMMARY:Pink Zone Game (Lady Lions vs. Iowa)
DESCRIPTION:Annual Lady Lion Basketball Play 4 Kay Game benefitting Pink Zone.
URL:https://papinkzone.org/event/pink-zone-game-lady-lions-vs-iowa/
END:VEVENT
BEGIN:VEVENT
DTSTART;TZID=America/New_York:20221109T190000
DTEND;TZID=America/New_York:20221109T210000
DTSTAMP:20260423T132238
CREATED:20221018T170315Z
LAST-MODIFIED:20221018T170318Z
UID:5293-1668020400-1668027600@papinkzone.org
SUMMARY:Lady Lions' Season Opener
DESCRIPTION:Season-opening home basketball game for the Penn State women’s basketball team! The Lady Lions play host to Norfolk State.
URL:https://papinkzone.org/event/lady-lions-season-opener/
LOCATION:Bryce Jordan Center\, Bryce Jordan Center\, Penn State University\, University Park\, Pennsylvania\, 16802\, United States
END:VEVENT
BEGIN:VEVENT
DTSTART;TZID=America/New_York:20221021T180000
DTEND;TZID=America/New_York:20221021T210000
DTSTAMP:20260423T132238
CREATED:20221018T170012Z
LAST-MODIFIED:20221018T170015Z
UID:5290-1666375200-1666386000@papinkzone.org
SUMMARY:Penn State Homecoming Parade
DESCRIPTION:Members of the Pink Zone board and Pink Zone supporters will march in the annual Penn State Homecoming Parade that moves through the University Park campus and downtown State College!
URL:https://papinkzone.org/event/penn-state-homecoming-parade/
END:VEVENT
BEGIN:VEVENT
DTSTART;TZID=America/New_York:20221003T000000
DTEND;TZID=America/New_York:20221003T235959
DTSTAMP:20260423T132238
CREATED:20220328T234727Z
LAST-MODIFIED:20220819T132233Z
UID:5216-1664755200-1664841599@papinkzone.org
SUMMARY:Pink Zone Golf Tournament
DESCRIPTION:Second annual Pink Zone Golf Tournament — with women’s and men’s divisions this year. Numerous sponsorship opportunities and ways to battle breast cancer and support survivors. Join us at Centre Hills Country Club on Monday\, Oct. 3! MORE INFO HERE — https://birdease.com/Pinkzonegolf
URL:https://papinkzone.org/event/golf-tournament/
ORGANIZER;CN="Trish Fulvio":MAILTO:trish@papinkzone.org
END:VEVENT
BEGIN:VEVENT
DTSTART;TZID=America/New_York:20220401T190000
DTEND;TZID=America/New_York:20220401T213000
DTSTAMP:20260423T132238
CREATED:20220328T235407Z
LAST-MODIFIED:20220329T173258Z
UID:5219-1648839600-1648848600@papinkzone.org
SUMMARY:Penn State Women's Lacrosse Pink Game
DESCRIPTION:Join the Penn State Women’s Lacrosse team at Panzer Stadium\, Friday\, April 1\, 2022\, for our Pink Game! Come support your Nittany Lions and enjoy some game day activities! MORE INFO
URL:https://papinkzone.org/event/penn-state-womens-lacrosse-pink-game/
END:VEVENT
BEGIN:VEVENT
DTSTART;TZID=America/New_York:20220206T113000
DTEND;TZID=America/New_York:20220206T170000
DTSTAMP:20260423T132238
CREATED:20211223T230349Z
LAST-MODIFIED:20220105T133245Z
UID:4755-1644147000-1644166800@papinkzone.org
SUMMARY:2022 Lady Lion Basketball Play4Kay Game
DESCRIPTION:Join us for the Lady Lion Basketball Play4Kay Game benefitting Pink Zone on Sunday\, February 6\, 2022 at 2 PM at the Bryce Jordan Center. Pink Zone’s 2022 beneficiaries include Geisinger-Lewistown Hospital\, Mount Nittany Health\, PA Breast Cancer Coalition\, Penn Highlands Healthcare\, Penn State Cancer Institute\, and the Kay Yow Cancer Fund. \n\n\n\nThe pre-game Opening Ceremony is new this year replacing the post-game Reception. You will complete your onsite registration here and receive your official Pink Zone Survivor t-shirt. You and your family and friends will walk the Pink Carpet for your arrival\, enjoy photo opportunities with the Lady Lions and other Penn State teams\, participate in the pre-game radio show and much\, much more! Stay tuned for more details on all the fun of this new pre-game event! \n\n\n\nSurvivors are entitled to 4 free tickets. Additional tickets are $5 each. Each survivor will also be entitled to an on-court half-time celebration and one (1) free official survivor t-shirt. \n\n\n\nAll seats are reserved. Want to sit with another survivor? Two or more survivors must submit their reservations consecutively at the same time either online or by mail in the same envelope\, to accommodate the request to sit together. \n\n\n\nDeadline to register is Monday\, January 24\, 2022. \n\n\n\n\nSurvivor Registration
URL:https://papinkzone.org/event/2022-lady-lion-basketball-play4kay-game/
LOCATION:Bryce Jordan Center\, Bryce Jordan Center\, Penn State University\, University Park\, Pennsylvania\, 16802\, United States
END:VEVENT
BEGIN:VEVENT
DTSTART;TZID=America/New_York:20211011T130000
DTEND;TZID=America/New_York:20211011T190000
DTSTAMP:20260423T132238
CREATED:20211223T231452Z
LAST-MODIFIED:20220105T134838Z
UID:4764-1633957200-1633978800@papinkzone.org
SUMMARY:1st Annual Women's Golf Tournament
DESCRIPTION:The PA Pink Zone introduces its 1st Annual Women’s Golf Tournament sponsored by Confer’s Jewelers in downtown Bellefonte. This tournament will raise money to increase resources for patients and survivors and will take place on Monday\, October 11th at Centre Hills Country Club. \n\n\n\nCost is $250 per person. Registration includes 18 holes with cart\, boxed lunch\, drink ticket\, and post reception. Additional sponsorship opportunities are available. \n\n\n\n\nRegistration
URL:https://papinkzone.org/event/1st-annual-womens-golf-tournament/
LOCATION:Centre Hills Country Club\, 153 Country Club Road\, State College\, Pennsylvania\, 16801\, United States
END:VEVENT
END:VCALENDAR